BEGIN:VCALENDAR
VERSION:2.0
PRODID:-//medmissio Würzburg - ECPv6.15.17//NONSGML v1.0//EN
CALSCALE:GREGORIAN
METHOD:PUBLISH
X-WR-CALNAME:medmissio Würzburg
X-ORIGINAL-URL:https://www.medmissio.de
X-WR-CALDESC:Veranstaltungen für medmissio Würzburg
REFRESH-INTERVAL;VALUE=DURATION:PT1H
X-Robots-Tag:noindex
X-PUBLISHED-TTL:PT1H
BEGIN:VTIMEZONE
TZID:Europe/Berlin
BEGIN:DAYLIGHT
TZOFFSETFROM:+0100
TZOFFSETTO:+0200
TZNAME:CEST
DTSTART:20230326T010000
END:DAYLIGHT
BEGIN:STANDARD
TZOFFSETFROM:+0200
TZOFFSETTO:+0100
TZNAME:CET
DTSTART:20231029T010000
END:STANDARD
BEGIN:DAYLIGHT
TZOFFSETFROM:+0100
TZOFFSETTO:+0200
TZNAME:CEST
DTSTART:20240331T010000
END:DAYLIGHT
BEGIN:STANDARD
TZOFFSETFROM:+0200
TZOFFSETTO:+0100
TZNAME:CET
DTSTART:20241027T010000
END:STANDARD
BEGIN:DAYLIGHT
TZOFFSETFROM:+0100
TZOFFSETTO:+0200
TZNAME:CEST
DTSTART:20250330T010000
END:DAYLIGHT
BEGIN:STANDARD
TZOFFSETFROM:+0200
TZOFFSETTO:+0100
TZNAME:CET
DTSTART:20251026T010000
END:STANDARD
END:VTIMEZONE
BEGIN:VEVENT
DTSTART;TZID=Europe/Berlin:20240122T080000
DTEND;TZID=Europe/Berlin:20240122T170000
DTSTAMP:20260420T183124
CREATED:20240115T074814Z
LAST-MODIFIED:20240115T080245Z
UID:10000082-1705910400-1705942800@www.medmissio.de
SUMMARY:Kurs "Stuhlparasiten" Ausgebucht! Wir führen eine Warteliste
DESCRIPTION:Kursdauer 2 Tage \nMikroskopie und Diagnostik von Gewebe- und Darmparasiten \nKurs “Stuhlparasiten” \nTermin 1:        22.-23. Januar 2024 \nTermin 2:        14.-15. Oktober 2024 \nOrt:                 medmissio\, Hanna-Decker-Haus\, Hermann-Schell-Str. 7\, 97074 Würzburg \nKursdauer 2 Tage \nMikroskopie und Diagnostik von Gewebe- und Darmparasiten \nIntestinale parasitäre Erkrankungen sind auch in Deutschland noch nicht ausgerottet. Immer wieder werden sie bei Patienten mit geschwächtem Immunsystem nachgewiesen. Vor allem jedoch werden sie von Fernreisen mitgebracht. Global betrachtet zählen sie zu den häufigsten und wichtigsten Infektionskrankheiten. \nZielgruppen \n– Medizinisch-technische Assistenten*Innen und medizinische Fachangestellte\n– Medizinstudent*Innen\n– Mediziner*Innen und Naturwissenschaftler*Innen \nVoraussetzung zur Teilnahme sind Kenntnisse im Mikroskopieren! \nZiele: \nDie Teilnehmer*Innen kennen die wichtigen humanpathogenen intestinalen Parasiten (Helminthen und Protozoen)\, deren Entwicklungszyklen und Übertragungswege sowie die von ihnen hervorgerufenen Erkrankungen. Die Teilnehmer*Innen sind mit den Besonderheiten der Diagnostik von intestinalen Parasiten vertraut und können sie mikroskopisch sicher identifizieren. Zudem werden neben den herkömmlichen praktischen Nachweismethoden verschiedene Spezialmethoden erlernt. \nKursinhalte:\n– Theorie: Parasiten – Definition und Einteilung\, Diagnostik verschiedener intestinaler Parasiten\n– Praxis: Mikroskopie von Darmparasiten (Wurmeier und Protozoen)\, Ankonzentrierungsmethoden\, Identifikation von Kryptosporidien\, Cyclospora und Cystoisospora\nDas vorläufige Kursprogramm finden Sie als pdf-Datei unten nach der Kursankündigung. \nKursgebühr:\n450\,00 €. Die Verpflegung in den Kaffeepausen und das Mittagessen sind im Preis enthalten.\nZertifizierung:\nFortbildungspunkte der Bayerischen Ärztekammer werden beantragt.\nTeilnehmerzahl:\nMindestens 10\, höchstens 15 Personen\nAnmeldung:\nBitte füllen Sie das PDF-Anmeldeformular am Seitenende aus und senden es per Email/Fax/Post zurück. Bei Stornierung der Teilnahme nach verbindlicher Anmeldung berechnen wir eine Bearbeitungsgebühr von 10% der Kursgebühren. Bei Stornierung innerhalb von 14 Tagen vor Beginn des Kurses ist die volle Kursgebühr zu zahlen. \nVeranstaltungsort:\nmedmissio\, Hanna-Decker-Haus\, Hermann-Schell-Straße 7\, 97074 Würzburg\nDie Wegbeschreibung finden Sie als PDF im Downloadbereich.\nEine Liste mit Hotelempfehlungen finden Sie ebenfalls im Downloadbereich.\nKontakt:\nBirgit Zürn\nTel.: 0931 / 80 48 510\nFax: 0931 / 80 48 530\nE-mail: kurse@medmissio.de \nHermann-Schell-Str. 7\n97074 Würzburg \nStuhlparasiten_2024_Vorlaeufiges Programm \nAnmeldeformular Laborkurse 2024 \nWegbeschreibung Hanna-Decker-Haus mit Klinik \nHotelempfehlungen
URL:https://www.medmissio.de/event/kurs-stuhlparasiten-ausgebucht-wir-fuhren-eine-warteliste/
LOCATION:medmissio\, Hanna-Decker-Haus\, Hermann-Schell-Str. 7\, 97074 Würzburg
CATEGORIES:Kurse und Seminare für Ärzte
END:VEVENT
BEGIN:VEVENT
DTSTART;TZID=Europe/Berlin:20240124T080000
DTEND;TZID=Europe/Berlin:20240124T170000
DTSTAMP:20260420T183124
CREATED:20240115T080746Z
LAST-MODIFIED:20240115T080855Z
UID:10000083-1706083200-1706115600@www.medmissio.de
SUMMARY:Kurs "Malaria und andere Blutparasiten" Ausgebucht! Wir führen eine Warteliste.
DESCRIPTION:Kurs “Malaria und andere Blutparasiten” – \nTermin     24. bis 26. Januar 2024 \nOrt:                 medmissio\, Hanna-Decker-Haus\, Hermann-Schell-Str. 7\, 97074 Würzburg \nPathogenese\, Therapie und Diagnostik der Blutparasiten \nDurch häufige Fernreisen nimmt die Bedeutung der Malariadiagnostik laufend zu. Entscheidend für das Management der Erkrankung und um Todesfälle zu vermeiden sind ein frühzeitig geäußerter Verdacht sowie eine schnelle Diagnose und sofortige Behandlung. \nZielgruppen \n– Medizinisch-technische AssistentInnen\, medizinische Fachangestellte\n– MedizinerInnen und NaturwissenschaftlerInnen\n– MedizinstudentInnen\nVoraussetzung zur Teilnahme sind Kenntnisse im Mikroskopieren und die Differenzierung eines normalen Blutbildes!\nZiele:\nDie TeilnehmerInnen lernen verschiedene theoretische Aspekte zur Malaria und weiteren Blutparasiten.  Nach Kursablauf können Sie die verschiedenen Blutparasiten mikroskopisch differenzieren\, kennen die Unterschiede zwischen den verschiedenen Malariaarten  und können sie von Artefakten wie Färbeniederschlägen abgrenzen.\nKursinhalte:\n– Epidemiologie\, Pathogenese und Therapie verschiedener Blutparasiten\n– Prophylaxe und Kontrolle der Malaria\n– Herstellung eines Dicken Tropfens und Ausstrichs\n– Verschiedene Färbemethoden\n– Diagnostik verschiedener humanpathogener Blut- und Gewebsparasiten (Trypanosomen\, Mikrofilarien\, Leishmanien)\,\n– Selbstständiges Üben mit Präparaten\n– Quantifizierung\, Artefakte\, Fehlerquellen\, Qualitätskontrolle\n– Schnelltests\n– Fallbeispiele \nDas vorläufige Programm finden Sie als PDF nach der Kursankündigung. \nKursdauer: 2\,5 Tage \nKursgebühr:\n500\,00 €\nZertifizierung:\nFortbildungspunkte der Bayerischen Ärztekammer werden beantragt.\nTeilnehmerzahl:\nMindestens 10\, höchstens 15 Personen \nAnmeldung: \nBitte füllen Sie das PDF-Anmeldeformular am Seitenende aus und senden es per Email/Fax/Post zurück. Bei Stornierung der Teilnahme nach verbindlicher Anmeldung berechnen wir eine Bearbeitungsgebühr von 10% der Kursgebühren. Bei Stornierung innerhalb von 14 Tagen vor Beginn des Kurses ist die volle Kursgebühr zu zahlen. \nVeranstaltungsort:\nmedmissio\, Hanna-Decker-Haus\, Hermann-Schell-Straße 7\, 97074 Würzburg.\nDie Wegbeschreibung finden Sie im Downloadbereich.\nEine Liste mit Hotelempfehlungen finden Sie ebenfalls im Downloadbereich \nKontakt:\nBirgit Zürn\nTel.: 0931 / 80 48 510\nFax: 0931 / 80 48 530\nE-mail: kurse@medmissio.de \nMalaria_2024_Vorlaeufiges Programm \nWegbeschreibung Hanna-Decker-Haus mit Klinik \nAnmeldeformular Laborkurse 2024 \nHotelempfehlungen
URL:https://www.medmissio.de/event/kurs-malaria-und-andere-blutparasiten-ausgebucht-wir-fuhren-eine-warteliste/
LOCATION:medmissio
CATEGORIES:Kurse und Seminare für Ärzte
END:VEVENT
BEGIN:VEVENT
DTSTART;TZID=Europe/Berlin:20240127T083000
DTEND;TZID=Europe/Berlin:20240127T083000
DTSTAMP:20260420T183124
CREATED:20240115T081041Z
LAST-MODIFIED:20240115T081041Z
UID:10000084-1706344200-1706344200@www.medmissio.de
SUMMARY:Online-Grundlagenseminar für medizinische Fachkräfte zur Vorbereitung von Kurzzeiteinsätzen in Gesundheitsprojekten
DESCRIPTION:Das zweitägige Grundlagenseminar bereitet medizinische Fachkräfte auf Auslandseinsätze vor. Klinische Themen sowie relevante Aspekte der öffentlichen Gesundheit bilden den inhaltlichen Schwerpunkt. \nZiele\n– Vermittlung von Grundlagen der Tropenmedizin und Internationalen Gesundheit\n– Länderübergreifender Überblick über die Herausforderungen der medizinischen Tätigkeit mit begrenzten Ressourcen \nInhalte\n– Infektionskrankheiten: Malaria\, Tuberkulose\, Parasitosen\n– Grundkonzept der Primary Health Care\n– Frauen- und Kindergesundheit\n– Nichtübertragbare Erkrankungen\n– Labormedizin unter einfachen Bedingungen\n– Gesunderhaltung im Einsatz \nProgramm\nDas vorläufige Programm finden Sie am Ende dieser Kursankündigung. \nSeminargebühr\n190\,00 € \nAnmeldung\nDas Anmeldeformular finden Sie am Ende dieser Kursankündigung. \nZertifizierung\nFortbildungspunkte der Bayerischen Ärztekammer werden beantragt. \nweitere Informationen\nBirgit Zürn\nMissionsärztliches Institut\nHermann-Schell-Str. 7\n97074 Würzburg\nTel. 0931 / 80 48 5-10\nFax 0931 / 80 48 5-25\nbirgit.zuern@medmissio.de \nProgramm 01_24 \nAnmeldeformular Januar
URL:https://www.medmissio.de/event/online-grundlagenseminar-fur-medizinische-fachkrafte-zur-vorbereitung-von-kurzzeiteinsatzen-in-gesundheitsprojekten/
CATEGORIES:Kurse und Seminare für Ärzte
END:VEVENT
END:VCALENDAR